BEGIN:VCALENDAR
VERSION:2.0
PRODID:-//Hochschul-Kompetenz-Zentrum - ECPv6.15.18//NONSGML v1.0//EN
CALSCALE:GREGORIAN
METHOD:PUBLISH
X-ORIGINAL-URL:https://www.hoko-waf.de
X-WR-CALDESC:Veranstaltungen für Hochschul-Kompetenz-Zentrum
REFRESH-INTERVAL;VALUE=DURATION:PT1H
X-Robots-Tag:noindex
X-PUBLISHED-TTL:PT1H
BEGIN:VTIMEZONE
TZID:Europe/Berlin
BEGIN:DAYLIGHT
TZOFFSETFROM:+0100
TZOFFSETTO:+0200
TZNAME:CEST
DTSTART:20220327T010000
END:DAYLIGHT
BEGIN:STANDARD
TZOFFSETFROM:+0200
TZOFFSETTO:+0100
TZNAME:CET
DTSTART:20221030T010000
END:STANDARD
BEGIN:DAYLIGHT
TZOFFSETFROM:+0100
TZOFFSETTO:+0200
TZNAME:CEST
DTSTART:20230326T010000
END:DAYLIGHT
BEGIN:STANDARD
TZOFFSETFROM:+0200
TZOFFSETTO:+0100
TZNAME:CET
DTSTART:20231029T010000
END:STANDARD
BEGIN:DAYLIGHT
TZOFFSETFROM:+0100
TZOFFSETTO:+0200
TZNAME:CEST
DTSTART:20240331T010000
END:DAYLIGHT
BEGIN:STANDARD
TZOFFSETFROM:+0200
TZOFFSETTO:+0100
TZNAME:CET
DTSTART:20241027T010000
END:STANDARD
END:VTIMEZONE
BEGIN:VEVENT
DTSTART;TZID=Europe/Berlin:20230516T160000
DTEND;TZID=Europe/Berlin:20230516T183000
DTSTAMP:20260421T122012
CREATED:20220727T074020Z
LAST-MODIFIED:20230208T085059Z
UID:10000075-1684252800-1684261800@www.hoko-waf.de
SUMMARY:// technotrans SE: Wir transformieren die Zukunft
DESCRIPTION:Löse spannende Aufgaben an verschiedenen Stationen\, wie z.B. die Montage eines Modellhubschraubers\, den Zusammenbau eines elektronischen Schüttelwürfels oder einen rasanten Auto-Parcours. \nAltersgruppe: 12 – 18 Jahre \nEs sind keine Vorkenntnisse erforderlich.\nDie Teilnehmerzahl ist auf 14 Jugendliche begrenzt. \n  \nWeitere Informationen zum Unternehmen findest du hier: https://www.technotrans.de
URL:https://www.hoko-waf.de/event/cocktails-mit-dem-roboter-mixen-3/
LOCATION:PopUp bei technotrans SE |\, Robert-Linnemann-Straße 17\, Sassenberg\, 48336\, Deutschland
ATTACH;FMTTYPE=image/png:https://www.hoko-waf.de/wp-content/uploads/2022/07/gewerblich_2.png
END:VEVENT
END:VCALENDAR